BEGIN:VCALENDAR
VERSION:2.0
PRODID:-//Bienessence
CALSCALE:GREGORIAN
METHOD:PUBLISH
X-WR-CALNAME:Bienessence
X-ORIGINAL-URL:https://bienessence-new.neywa.fr/shop/atelier/sophrologie/sophro-5/
X-WR-CALDESC:Atelier mensuel de Sophrologie : Définir et poser ses intentions pour la nouvelle année
BEGIN:VEVENT
DTSTART;TZID=Europe/Paris:20250115T153000
DTEND;TZID=Europe/Paris:20250115T170000
SUMMARY:Atelier mensuel de Sophrologie : Définir et poser ses intentions pour la nouvelle année
DESCRIPTION:<p style="font-weight: 400;">Description générale : Exercices corporels , respirations , visualisations et temps de paroles et d’échange . Accessible à tous</p>
<p style="font-weight: 400;">Le début d’année est toujours un moment propice pour les vœux, les « bonnes résolutions ». Ensembles, porté-e-s par l’énergie du groupe, mais dans l’intimité de nos conscience, prenons le temps de nous poser pour laisser partir ce qui doit et laisser la place au renouveau.</p>
URL:https://bienessence-new.neywa.fr/shop/atelier/sophrologie/sophro-5/
LOCATION:
END:VEVENT
END:VCALENDAR
